BEGIN:VCALENDAR
VERSION:2.0
PRODID:-//TC 46 Lindenberg - ECPv6.15.17.1//NONSGML v1.0//EN
CALSCALE:GREGORIAN
METHOD:PUBLISH
X-WR-CALNAME:TC 46 Lindenberg
X-ORIGINAL-URL:https://tc-lindenberg.de
X-WR-CALDESC:Veranstaltungen für TC 46 Lindenberg
REFRESH-INTERVAL;VALUE=DURATION:PT1H
X-Robots-Tag:noindex
X-PUBLISHED-TTL:PT1H
BEGIN:VTIMEZONE
TZID:Europe/Berlin
BEGIN:DAYLIGHT
TZOFFSETFROM:+0100
TZOFFSETTO:+0200
TZNAME:CEST
DTSTART:20250330T010000
END:DAYLIGHT
BEGIN:STANDARD
TZOFFSETFROM:+0200
TZOFFSETTO:+0100
TZNAME:CET
DTSTART:20251026T010000
END:STANDARD
BEGIN:DAYLIGHT
TZOFFSETFROM:+0100
TZOFFSETTO:+0200
TZNAME:CEST
DTSTART:20260329T010000
END:DAYLIGHT
BEGIN:STANDARD
TZOFFSETFROM:+0200
TZOFFSETTO:+0100
TZNAME:CET
DTSTART:20261025T010000
END:STANDARD
BEGIN:DAYLIGHT
TZOFFSETFROM:+0100
TZOFFSETTO:+0200
TZNAME:CEST
DTSTART:20270328T010000
END:DAYLIGHT
BEGIN:STANDARD
TZOFFSETFROM:+0200
TZOFFSETTO:+0100
TZNAME:CET
DTSTART:20271031T010000
END:STANDARD
END:VTIMEZONE
BEGIN:VEVENT
DTSTART;TZID=Europe/Berlin:20260501T110000
DTEND;TZID=Europe/Berlin:20260501T220000
DTSTAMP:20260423T143513
CREATED:20260320T200343Z
LAST-MODIFIED:20260320T203115Z
UID:5293-1777633200-1777672800@tc-lindenberg.de
SUMMARY:Saisoneröffnung 2026
DESCRIPTION:Endlich geht es los.\nWir starten am 01.05.2026 ab 11 Uhr offiziell mit dem ersten der beliebten Gauditurniere in die Sommersaison.\nFür das leibliche Wohl ist gesorgt.\nStart Saisoneröffnung: 11 Uhr\nStart Gauditurnier: 13 Uhr \n\nWir freuen uns auf zahlreiche Teilnahme und einen gemütlichen Saisonauftakt mit Euch!
URL:https://tc-lindenberg.de/event/saisoneroeffnung-2026
CATEGORIES:Termine
ATTACH;FMTTYPE=image/png:https://tc-lindenberg.de/wp-content/uploads/2025/08/Logo_blau_tuerkis-scaled.png
END:VEVENT
BEGIN:VEVENT
DTSTART;TZID=Europe/Berlin:20260509T140000
DTEND;TZID=Europe/Berlin:20260509T190000
DTSTAMP:20260423T143513
CREATED:20260324T182341Z
LAST-MODIFIED:20260324T182341Z
UID:5303-1778335200-1778353200@tc-lindenberg.de
SUMMARY:Heimspiel Herren30 Landesliga II TC46 Lindenberg - TC Mering
DESCRIPTION:Erstes Heimspiel der Herren30 in der Saison 2026. Zu Gast ist der TC Mering.\nKommt vorbei und genießt tolles Tennis bei kühlen Getränken und lecker Essen auf unserer Sonnenterasse!\nWir freuen uns auf Euch!
URL:https://tc-lindenberg.de/event/heimspiel-herren30-landesliga-ii-tc46-lindenberg-tc-mering
LOCATION:TC 46 Lindenberg\, Austr. 13\, Lindenberg im Allgäu\, 88161\, Germany
CATEGORIES:Termine
END:VEVENT
BEGIN:VEVENT
DTSTART;TZID=Europe/Berlin:20260516T140000
DTEND;TZID=Europe/Berlin:20260516T190000
DTSTAMP:20260423T143513
CREATED:20260324T182535Z
LAST-MODIFIED:20260324T182535Z
UID:5305-1778940000-1778958000@tc-lindenberg.de
SUMMARY:Heimspiel Herren30 Landesliga II TC46 Lindenberg - TSV Burgberg
DESCRIPTION:Zweites Heimspiel der Herren30 in der Saison 2026. Zu Gast ist der TSV Burgberg.\nKommt vorbei und genießt tolles Tennis bei kühlen Getränken und lecker Essen auf unserer Sonnenterasse!\nWir freuen uns auf Euch!
URL:https://tc-lindenberg.de/event/heimspiel-herren30-landesliga-ii-tc46-lindenberg-tsv-burgberg
LOCATION:TC 46 Lindenberg\, Austr. 13\, Lindenberg im Allgäu\, 88161\, Germany
CATEGORIES:Termine
END:VEVENT
BEGIN:VEVENT
DTSTART;TZID=Europe/Berlin:20260620T140000
DTEND;TZID=Europe/Berlin:20260620T190000
DTSTAMP:20260423T143513
CREATED:20260324T182654Z
LAST-MODIFIED:20260324T182654Z
UID:5307-1781964000-1781982000@tc-lindenberg.de
SUMMARY:Heimspiel Herren30 Landesliga II TC46 Lindenberg - TTC Geltendorf
DESCRIPTION:Drittes Heimspiel der Herren30 in der Saison 2026. Zu Gast ist der TTC Geltendorf.\nKommt vorbei und genießt tolles Tennis bei kühlen Getränken und lecker Essen auf unserer Sonnenterasse!\nWir freuen uns auf Euch!
URL:https://tc-lindenberg.de/event/heimspiel-herren30-landesliga-ii-tc46-lindenberg-ttc-geltendorf
LOCATION:TC 46 Lindenberg\, Austr. 13\, Lindenberg im Allgäu\, 88161\, Germany
CATEGORIES:Termine
END:VEVENT
BEGIN:VEVENT
DTSTART;TZID=Europe/Berlin:20260704T140000
DTEND;TZID=Europe/Berlin:20260704T190000
DTSTAMP:20260423T143513
CREATED:20260324T182748Z
LAST-MODIFIED:20260324T183546Z
UID:5309-1783173600-1783191600@tc-lindenberg.de
SUMMARY:Heimspiel Herren30 Landesliga II TC46 Lindenberg - TC Kirchheim
DESCRIPTION:Viertes und letztes Heimspiel der Herren30 in der Saison 2026. Zu Gast ist der TC Kirchheim.\nKommt vorbei und genießt tolles Tennis bei kühlen Getränken und lecker Essen auf unserer Sonnenterasse!\nWir freuen uns auf Euch!
URL:https://tc-lindenberg.de/event/heimspiel-herren30-landesliga-ii-tc46-lindenberg-tc-kirchheim
LOCATION:TC 46 Lindenberg\, Austr. 13\, Lindenberg im Allgäu\, 88161\, Germany
CATEGORIES:Termine
END:VEVENT
BEGIN:VEVENT
DTSTART;TZID=Europe/Berlin:20260803T080000
DTEND;TZID=Europe/Berlin:20260805T150000
DTSTAMP:20260423T143513
CREATED:20260320T201918Z
LAST-MODIFIED:20260320T201918Z
UID:5296-1785744000-1785942000@tc-lindenberg.de
SUMMARY:Jugend Sommercamp I
DESCRIPTION:Das Jugendcamp für Jugendliche im Alter von 11 bis 18 Jahren findet in der ersten Woche der Sommerferien statt.\nInfos folgen
URL:https://tc-lindenberg.de/event/jugend-sommercamp-i
CATEGORIES:Termine
ATTACH;FMTTYPE=image/png:https://tc-lindenberg.de/wp-content/uploads/2025/08/Logo_blau_tuerkis-scaled.png
END:VEVENT
BEGIN:VEVENT
DTSTART;TZID=Europe/Berlin:20260810T080000
DTEND;TZID=Europe/Berlin:20260812T150000
DTSTAMP:20260423T143513
CREATED:20260320T202042Z
LAST-MODIFIED:20260320T202245Z
UID:5298-1786348800-1786546800@tc-lindenberg.de
SUMMARY:Jugend Sommercamp II
DESCRIPTION:Das Jugendcamp für Kinder und Jugendliche im Alter von 6 bis 10 Jahren findet in der zweiten Woche der Sommerferien statt.\nInfos folgen.
URL:https://tc-lindenberg.de/event/jugend-sommercamp-ii
CATEGORIES:Termine
ATTACH;FMTTYPE=image/jpeg:https://tc-lindenberg.de/wp-content/uploads/2025/08/001.jpg
END:VEVENT
END:VCALENDAR